BEGIN:VCALENDAR
VERSION:2.0
PRODID:-//Tukios.com/
BEGIN:VEVENT
UID:de9e5844-3835-43ba-814a-f46eddd10f9a@www.farrarfuneralhome.com
DTSTAMP:20260422T191223Z
DTSTART:20260427T230000Z
DTEND:20260428T000000Z
SUMMARY:Memorial Service
DESCRIPTION:
URL:https://www.farrarfuneralhome.com/obituaries/william-buddy-roach
LOCATION: 411 West Broadway Blvd.  Jefferson City TN 37760
GEO:36.1087569;-83.5142463
END:VEVENT
END:VCALENDAR