BEGIN:VCALENDAR
VERSION:2.0
PRODID:-//Tukios.com/
BEGIN:VEVENT
UID:034b7874-bfe3-4ae1-afb1-7a7d0a44fa09@www.farrarfuneralhome.com
DTSTAMP:20260422T191121Z
DTSTART:20260427T210000Z
DTEND:20260427T230000Z
SUMMARY:Visitation
DESCRIPTION:
URL:https://www.farrarfuneralhome.com/obituaries/william-buddy-roach
LOCATION: 411 West Broadway Blvd.  Jefferson City TN 37760
GEO:36.1087569;-83.5142463
END:VEVENT
END:VCALENDAR