BEGIN:VCALENDAR
VERSION:2.0
PRODID:-//Tukios.com/
BEGIN:VEVENT
UID:e9fed1fa-de0c-4574-9eb2-2f6f9c63f3a0@www.farrarfuneralhome.com
DTSTAMP:20260423T213543Z
DTSTART:20260426T180000Z
DTEND:20260426T190000Z
SUMMARY:Graveside Service
DESCRIPTION:
URL:https://www.farrarfuneralhome.com/obituaries/dorothy-gass
LOCATION: 386 West Hwy 25/70  Dandridge TN 37725
GEO:36.0220076;-83.4460443
END:VEVENT
END:VCALENDAR