BEGIN:VCALENDAR
VERSION:2.0
PRODID:-//Tukios.com/
BEGIN:VEVENT
UID:f0ff2ebb-cbcb-447e-a66b-00b96cf82f17@www.farrarfuneralhome.com
DTSTAMP:20260419T234828Z
DTSTART:20260423T180000Z
DTEND:20260423T190000Z
SUMMARY:Graveside Service
DESCRIPTION:
URL:https://www.farrarfuneralhome.com/obituaries/charles-wright
LOCATION:Jefferson Memorial Gardens 812 E Broadway Blvd  Jefferson City 
	TN 37760
GEO:36.1341873;-83.4579987
END:VEVENT
END:VCALENDAR