BEGIN:VCALENDAR
VERSION:2.0
PRODID:-//Tukios.com/
BEGIN:VEVENT
UID:caac0b5b-4ba1-4e32-a6a5-71f81d65f39f@www.farrarfuneralhome.com
DTSTAMP:20260419T234056Z
DTSTART:20260422T230000Z
DTEND:20260423T000000Z
SUMMARY:Funeral Service
DESCRIPTION:
URL:https://www.farrarfuneralhome.com/obituaries/charles-wright
LOCATION:Farrar Funeral Home 411 West Broadway Boulevard  Jefferson City 
	TN 37760
GEO:36.1086936;-83.5144441
END:VEVENT
END:VCALENDAR