BEGIN:VCALENDAR
VERSION:2.0
PRODID:-//Tukios.com/
BEGIN:VEVENT
UID:4ddab275-ec48-4f59-b2c4-313e63981f67@www.farrarfuneralhome.com
DTSTAMP:20260419T235039Z
DTSTART:20260422T210000Z
DTEND:20260422T230000Z
SUMMARY:Visitation
DESCRIPTION:
URL:https://www.farrarfuneralhome.com/obituaries/charles-wright
LOCATION:Farrar Funeral Home 411 West Broadway Boulevard  Jefferson City 
	TN 37760
GEO:36.1086936;-83.5144441
END:VEVENT
END:VCALENDAR